BEGIN:VCALENDAR
PRODID:-//eluceo/ical//2.0/EN
VERSION:2.0
CALSCALE:GREGORIAN
BEGIN:VEVENT
UID:7969f0662b59866d97c4acfb263b4733
DTSTAMP:20260422T001447Z
SUMMARY:Rotary TV 
DESCRIPTION:Con la presente desideriamo invitarvi a partecipare ad una nuov
 a iniziativa elaborata nelle ultime settimane\, collegandovi alla prima em
 issione in diretta della Rotary Ticino TV.\n\nLunedì 27 aprile alle ore 2
 0:00 si terrà un incontro in diretta streaming con l’intento di raccogl
 iere riflessioni sui servizi sanitari\, gli interventi finanziari\, pubbli
 ci o privati\, le misure necessarie per soccorrere persone e aziende che n
 on possano essere soddisfatti dai sostegni ufficiali. \n\nRotary Ticino T
 V è il primo tempestivo progetto che mira ad accrescere l’informazione
  tra i Rotary Club ticinesi\, il Rotaract Club Lugano-Ceresio\, il Gruppo 
 di Lavoro Insubrico Rotary e gli altri club di servizio di lingua italiana
 .\n\nL’evento è promosso dal Rotary Club Lugano nell’ambito del 90esi
 mo anniversario di fondazione e di seguito vi preannunciamo il programma:\
 n\nModeratore\n\nAlessandro Trivilini (RC Lugano)\, docente-ricercatore SU
 PSI\n\nBenvenuto Rotariano\n\nFrancesco Beretta Piccoli (Governatore Elett
 o Distretto 1980)\n\nAntonio Silvestro (Presidente RC Lugano)\, Direttore 
 Eventmore\n\nSalute Pubblica\n\nPaolo Bianchi (RC Bellinzona)\, Direttore 
 della Divisione della salute pubblica\, DSS\n\nFormazione Professionale\n\
 nPaolo Colombo (RC Bellinzona)\, Direttore della Divisione della formazion
 e professionale\, DECS\n\nSalute e DPI\n\nEnos Bernasconi\, Viceprimario d
 i medicina interna e del servizio di malattie infettive\, Ospedale Regiona
 le di Lugano\, EOC\n\nAziende di servizi\n\nLorenza Bernasconi (RC Lugano)
 \, CFO e membro del CdA di Gruppo Sicurezza\n\nIndustria\n\nAlessandra Alb
 erti (RC Bellinzona)\, Direttrice di Chocolat Stella\n\nIl collegamento al
 la diretta streaming si attiva attraverso il seguente link:\n\nhttps://e-p
 resentation.ch/\n\nContando sulla vostra partecipazione e sulla condivisio
 ne di questo evento\, vi aspettiamo numerosi e vi auguriamo un buon proseg
 uimento di settimana.\n\nUn grande Grazie e buona visione.\n\nAntonio\n\nA
 ntonio Silvestro\nPresidente RC Lugano 2019 - 2020\nSito web: https://mail
 chi.mp/34dda6b58c27/invito-rotary-tv
URL:https://rotary-lugano.org/it/agenda/show/110285
DTSTART;TZID=Europe/Zurich:20200427T200000
DTEND;TZID=Europe/Zurich:20200427T220000
LOCATION:-
CATEGORIES:Rotary
END:VEVENT
BEGIN:VTIMEZONE
TZID:Europe/Zurich
BEGIN:DAYLIGHT
DTSTART:20200427T200000
TZNAME:CEST
TZOFFSETTO:+0200
TZOFFSETFROM:+0200
END:DAYLIGHT
END:VTIMEZONE
END:VCALENDAR
