BEGIN:VCALENDAR
PRODID:-//eluceo/ical//2.0/EN
VERSION:2.0
CALSCALE:GREGORIAN
BEGIN:VEVENT
UID:06f3cd330ef6a5c3356775f7f012a96e
DTSTAMP:20260422T230655Z
SUMMARY:Fine vita\, parliamone
DESCRIPTION:Govornik(ci): \n\nCesare Baj   Presidente del Rotary Club Co
 mo BaradelloApertura del convegno Avv. Massimo RossiDifensore di Marco C
 appatoI diritti del paziente Dott. Luca MoroniDirettore del hospice di Ab
 biategrasso\, Coordinatore della Federazione Cure Palliative (FCP) Regione
  Lombardia\, già Presidente Nazionale di questa Federazione.      
                                    Le cu
 re palliative   Johannes AgterbergConsigliere Associazione Luca Coscion
 e e rappresentante della stessa presso la Federazione Mondiale delle Assoc
 iazioni pro-vita volontario\, Past President del Rotary Club Como Baradell
 oII fine-vita volontario nel mondo Giuseppe AnzaniMagistrato\, editoriali
 sta di “Avvenire”Umanamente\, alle soglie dell’”Oltre Prof. Mauri
 zio MoriPresidente della Consulta di Bioetica Onlus e membro del Comitato 
 Nazionale di BioeticaQuestioni etiche riguardo il fine-vita
URL:https://rotary-lugano.org/bs/agenda/show/156953
DTSTART;TZID=Europe/Zurich:20230301T204500
DTEND;TZID=Europe/Zurich:20230301T214500
LOCATION:Biblioteca Comunale di Como
CATEGORIES:Rotary
END:VEVENT
BEGIN:VTIMEZONE
TZID:Europe/Zurich
BEGIN:STANDARD
DTSTART:20230301T204500
TZNAME:CET
TZOFFSETTO:+0100
TZOFFSETFROM:+0100
END:STANDARD
END:VTIMEZONE
END:VCALENDAR
