BEGIN:VCALENDAR
PRODID:-//eluceo/ical//2.0/EN
VERSION:2.0
CALSCALE:GREGORIAN
BEGIN:VEVENT
UID:da5045e6d35c4e8643b582d95bf5cfa8
DTSTAMP:20260423T003715Z
SUMMARY:(GLI) “Città dei Laghi”: un atlante per descriverla e farla ev
 olvere
DESCRIPTION:Govornik(ci): \n1. Giò Rezzonico: Il Ticino con Alptransit e g
 ruppo specifico Infrastrutture e trasporti dell’iniziativa "CdL " del GL
 I2. Michele Arnaboldi Prof. Accademia: resp. Atlante “CdL” e gruppo sp
 ecifico Infrastrutture e trasporti dell’iniziativa “CdL” del GLI3. G
 iovanni Arioli Responsabile gruppo specifico Infrastrutture e trasporti de
 ll’iniziativa “Città dei Laghi” del GLI4. I Sindaci:o Bruno Arrigon
 i sindaco Chiasso\,o Luca Pagani Sindaco Balerna\,o Samuele Cavadini sinda
 co MendrisioModerazione: Enrico Mascheroni (Coordinatore iniziativa “Cit
 tà dei Laghi” del GLI)\n\n
URL:https://rotary-lugano.org/bs/agenda/show/155447
DTSTART;TZID=Europe/Zurich:20230209T201500
DTEND;TZID=Europe/Zurich:20230209T223000
LOCATION:Aula Magna Accademia di Architettura di Mendrisio
CATEGORIES:Rotary
END:VEVENT
BEGIN:VTIMEZONE
TZID:Europe/Zurich
BEGIN:STANDARD
DTSTART:20230209T201500
TZNAME:CET
TZOFFSETTO:+0100
TZOFFSETFROM:+0100
END:STANDARD
END:VTIMEZONE
END:VCALENDAR
