BEGIN:VCALENDAR
PRODID:-//eluceo/ical//2.0/EN
VERSION:2.0
CALSCALE:GREGORIAN
BEGIN:VEVENT
UID:13e00f137942fbfa2cf60d081725b8bd
DTSTAMP:20260423T005424Z
SUMMARY:Invito RC Appiano Gentile
DESCRIPTION:Govornik(ci): Per adesioni: Imelde.paratico@gmail.com
URL:https://rotary-lugano.org/bs/agenda/show/151320
DTSTART;TZID=Europe/Zurich:20221201T200000
DTEND;TZID=Europe/Zurich:20221201T223000
LOCATION:Cooperativa L’Ancora \, Via Monterotondo\, Lurate Caccivio
CATEGORIES:Rotary
END:VEVENT
BEGIN:VTIMEZONE
TZID:Europe/Zurich
BEGIN:STANDARD
DTSTART:20221201T200000
TZNAME:CET
TZOFFSETTO:+0100
TZOFFSETFROM:+0100
END:STANDARD
END:VTIMEZONE
END:VCALENDAR
